BEGIN:VCALENDAR
VERSION:2.0
PRODID:-//Holzbachkicker Friedrichsthal - ECPv6.15.20//NONSGML v1.0//EN
CALSCALE:GREGORIAN
METHOD:PUBLISH
X-ORIGINAL-URL:https://holzbachkicker.de
X-WR-CALDESC:Veranstaltungen für Holzbachkicker Friedrichsthal
REFRESH-INTERVAL;VALUE=DURATION:PT1H
X-Robots-Tag:noindex
X-PUBLISHED-TTL:PT1H
BEGIN:VTIMEZONE
TZID:Europe/Berlin
BEGIN:DAYLIGHT
TZOFFSETFROM:+0100
TZOFFSETTO:+0200
TZNAME:CEST
DTSTART:20240331T010000
END:DAYLIGHT
BEGIN:STANDARD
TZOFFSETFROM:+0200
TZOFFSETTO:+0100
TZNAME:CET
DTSTART:20241027T010000
END:STANDARD
BEGIN:DAYLIGHT
TZOFFSETFROM:+0100
TZOFFSETTO:+0200
TZNAME:CEST
DTSTART:20250330T010000
END:DAYLIGHT
BEGIN:STANDARD
TZOFFSETFROM:+0200
TZOFFSETTO:+0100
TZNAME:CET
DTSTART:20251026T010000
END:STANDARD
BEGIN:DAYLIGHT
TZOFFSETFROM:+0100
TZOFFSETTO:+0200
TZNAME:CEST
DTSTART:20260329T010000
END:DAYLIGHT
BEGIN:STANDARD
TZOFFSETFROM:+0200
TZOFFSETTO:+0100
TZNAME:CET
DTSTART:20261025T010000
END:STANDARD
END:VTIMEZONE
BEGIN:VEVENT
DTSTART;TZID=Europe/Berlin:20250518T100000
DTEND;TZID=Europe/Berlin:20250518T160000
DTSTAMP:20260425T181650
CREATED:20250131T092505Z
LAST-MODIFIED:20250131T092505Z
UID:622-1747562400-1747584000@holzbachkicker.de
SUMMARY:20. Geburtstag der Minifeuerwehr Friedrichsthal
DESCRIPTION:Die Minifeuerwehr Friedrichsthal feiert an diesem Tag ihren 20. Geburtstag auf unserem Sportsplatz in Friedrichsthal.
URL:https://holzbachkicker.de/kalender/20-geburtstag-der-minifeuerwehr-friedrichsthal/
LOCATION:Sportplatz Friedrichsthal\, An der Sperlingswiese 1\, Friedrichsthal\, Hessen\, 61273\, Deutschland
CATEGORIES:Information
END:VEVENT
END:VCALENDAR