BEGIN:VCALENDAR
VERSION:2.0
PRODID:-//Holzbachkicker Friedrichsthal - ECPv6.15.20//NONSGML v1.0//EN
CALSCALE:GREGORIAN
METHOD:PUBLISH
X-WR-CALNAME:Holzbachkicker Friedrichsthal
X-ORIGINAL-URL:https://holzbachkicker.de
X-WR-CALDESC:Veranstaltungen für Holzbachkicker Friedrichsthal
REFRESH-INTERVAL;VALUE=DURATION:PT1H
X-Robots-Tag:noindex
X-PUBLISHED-TTL:PT1H
BEGIN:VTIMEZONE
TZID:Europe/Berlin
BEGIN:DAYLIGHT
TZOFFSETFROM:+0100
TZOFFSETTO:+0200
TZNAME:CEST
DTSTART:20240331T010000
END:DAYLIGHT
BEGIN:STANDARD
TZOFFSETFROM:+0200
TZOFFSETTO:+0100
TZNAME:CET
DTSTART:20241027T010000
END:STANDARD
BEGIN:DAYLIGHT
TZOFFSETFROM:+0100
TZOFFSETTO:+0200
TZNAME:CEST
DTSTART:20250330T010000
END:DAYLIGHT
BEGIN:STANDARD
TZOFFSETFROM:+0200
TZOFFSETTO:+0100
TZNAME:CET
DTSTART:20251026T010000
END:STANDARD
BEGIN:DAYLIGHT
TZOFFSETFROM:+0100
TZOFFSETTO:+0200
TZNAME:CEST
DTSTART:20260329T010000
END:DAYLIGHT
BEGIN:STANDARD
TZOFFSETFROM:+0200
TZOFFSETTO:+0100
TZNAME:CET
DTSTART:20261025T010000
END:STANDARD
END:VTIMEZONE
BEGIN:VEVENT
DTSTART;TZID=Europe/Berlin:20251005T100000
DTEND;TZID=Europe/Berlin:20251005T120000
DTSTAMP:20260423T142721
CREATED:20250924T195647Z
LAST-MODIFIED:20250924T195649Z
UID:697-1759658400-1759665600@holzbachkicker.de
SUMMARY:Ortsderby der Holzbachkicker 2025
DESCRIPTION:Ob alt gegen jung\, Obber- gegen Unnergass oder „Mittwoch gegen Sonntag“: Wir sind ein Verein\, die Holzbachkicker-Friedrichsthal. \n\n\n\nAbseits des Spielfelds gibt es Leckereien vom Grill und es werden kühle Getränke ausgeschenkt. \n\n\n\nJeder Zuschauer ist herzlich willkommen!
URL:https://holzbachkicker.de/kalender/ortsderby-der-holzbachkicker-2025/
END:VEVENT
END:VCALENDAR